BEGIN:VCALENDAR
VERSION:2.0
PRODID:-//KAAC - ECPv6.15.20//NONSGML v1.0//EN
CALSCALE:GREGORIAN
METHOD:PUBLISH
X-WR-CALNAME:KAAC
X-ORIGINAL-URL:https://service.cyberlinc.com
X-WR-CALDESC:Events for KAAC
REFRESH-INTERVAL;VALUE=DURATION:PT1H
X-Robots-Tag:noindex
X-PUBLISHED-TTL:PT1H
BEGIN:VTIMEZONE
TZID:UTC
BEGIN:STANDARD
TZOFFSETFROM:+0000
TZOFFSETTO:+0000
TZNAME:UTC
DTSTART:20230101T000000
END:STANDARD
END:VTIMEZONE
BEGIN:VEVENT
DTSTART;TZID=UTC:20240518T080000
DTEND;TZID=UTC:20240518T080000
DTSTAMP:20260419T150051
CREATED:20240518T000756Z
LAST-MODIFIED:20250304T005543Z
UID:4747-1716019200-1716019200@service.cyberlinc.com
SUMMARY:Run For Love
DESCRIPTION:장소 : Glenview Gallery Park (2400 Chestnut Ave.\, Glenview\, IL)
URL:https://service.cyberlinc.com/event/run-for-love/
LOCATION:IL
END:VEVENT
END:VCALENDAR