BEGIN:VCALENDAR
VERSION:2.0
PRODID:-//KAAC - ECPv6.15.20//NONSGML v1.0//EN
CALSCALE:GREGORIAN
METHOD:PUBLISH
X-ORIGINAL-URL:https://service.cyberlinc.com
X-WR-CALDESC:Events for KAAC
REFRESH-INTERVAL;VALUE=DURATION:PT1H
X-Robots-Tag:noindex
X-PUBLISHED-TTL:PT1H
BEGIN:VTIMEZONE
TZID:UTC
BEGIN:STANDARD
TZOFFSETFROM:+0000
TZOFFSETTO:+0000
TZNAME:UTC
DTSTART:20220101T000000
END:STANDARD
END:VTIMEZONE
BEGIN:VEVENT
DTSTART;VALUE=DATE:20230826
DTEND;VALUE=DATE:20230827
DTSTAMP:20260420T043548
CREATED:20230825T003718Z
LAST-MODIFIED:20250304T005605Z
UID:4756-1693008000-1693094399@service.cyberlinc.com
SUMMARY:Korean Festival 2023
DESCRIPTION:일시 : 2023년 8월 26일(토) 10:30 AM ~ 7:00 PM \n장소 : Maggie Daley Park (337 E Randolph St\, Chicago\, IL 60601)
URL:https://service.cyberlinc.com/event/korean-festival-2023/
LOCATION:IL
END:VEVENT
END:VCALENDAR