BEGIN:VCALENDAR
VERSION:2.0
PRODID:-//KAAC - ECPv6.15.20//NONSGML v1.0//EN
CALSCALE:GREGORIAN
METHOD:PUBLISH
X-WR-CALNAME:KAAC
X-ORIGINAL-URL:https://service.cyberlinc.com
X-WR-CALDESC:Events for KAAC
REFRESH-INTERVAL;VALUE=DURATION:PT1H
X-Robots-Tag:noindex
X-PUBLISHED-TTL:PT1H
BEGIN:VTIMEZONE
TZID:UTC
BEGIN:STANDARD
TZOFFSETFROM:+0000
TZOFFSETTO:+0000
TZNAME:UTC
DTSTART:20220101T000000
END:STANDARD
END:VTIMEZONE
BEGIN:VEVENT
DTSTART;TZID=UTC:20230707T180000
DTEND;TZID=UTC:20230707T180000
DTSTAMP:20260420T055324
CREATED:20230701T165207Z
LAST-MODIFIED:20250219T165404Z
UID:4375-1688752800-1688752800@service.cyberlinc.com
SUMMARY:제 36대 최은주 시카고한인회장 취임식
DESCRIPTION:일시 : 2023년 7월 7일  오후 6시 \n장소 : 노스브룩 소재 힐튼 시카고호텔
URL:https://service.cyberlinc.com/event/%ec%a0%9c-36%eb%8c%80-%ec%b5%9c%ec%9d%80%ec%a3%bc-%ec%8b%9c%ec%b9%b4%ea%b3%a0%ed%95%9c%ec%9d%b8%ed%9a%8c%ec%9e%a5-%ec%b7%a8%ec%9e%84%ec%8b%9d/
LOCATION:IL
END:VEVENT
END:VCALENDAR