BEGIN:VCALENDAR
VERSION:2.0
PRODID:-//KAAC - ECPv6.15.20//NONSGML v1.0//EN
CALSCALE:GREGORIAN
METHOD:PUBLISH
X-WR-CALNAME:KAAC
X-ORIGINAL-URL:https://service.cyberlinc.com
X-WR-CALDESC:Events for KAAC
REFRESH-INTERVAL;VALUE=DURATION:PT1H
X-Robots-Tag:noindex
X-PUBLISHED-TTL:PT1H
BEGIN:VTIMEZONE
TZID:UTC
BEGIN:STANDARD
TZOFFSETFROM:+0000
TZOFFSETTO:+0000
TZNAME:UTC
DTSTART:20210101T000000
END:STANDARD
END:VTIMEZONE
BEGIN:VEVENT
DTSTART;TZID=UTC:20221217T170000
DTEND;TZID=UTC:20221217T170000
DTSTAMP:20260422T165712
CREATED:20221201T165759Z
LAST-MODIFIED:20250219T165916Z
UID:4379-1671296400-1671296400@service.cyberlinc.com
SUMMARY:시카고한인회 ‘차세대와 함께하는 시카고 한인회 송년의 밤’
DESCRIPTION:
URL:https://service.cyberlinc.com/event/%ec%8b%9c%ec%b9%b4%ea%b3%a0%ed%95%9c%ec%9d%b8%ed%9a%8c-%ec%b0%a8%ec%84%b8%eb%8c%80%ec%99%80-%ed%95%a8%ea%bb%98%ed%95%98%eb%8a%94-%ec%8b%9c%ec%b9%b4%ea%b3%a0-%ed%95%9c%ec%9d%b8%ed%9a%8c/
LOCATION:IL
END:VEVENT
END:VCALENDAR