BEGIN:VCALENDAR
VERSION:2.0
PRODID:-//KAAC - ECPv6.15.20//NONSGML v1.0//EN
CALSCALE:GREGORIAN
METHOD:PUBLISH
X-WR-CALNAME:KAAC
X-ORIGINAL-URL:https://service.cyberlinc.com
X-WR-CALDESC:Events for KAAC
REFRESH-INTERVAL;VALUE=DURATION:PT1H
X-Robots-Tag:noindex
X-PUBLISHED-TTL:PT1H
BEGIN:VTIMEZONE
TZID:UTC
BEGIN:STANDARD
TZOFFSETFROM:+0000
TZOFFSETTO:+0000
TZNAME:UTC
DTSTART:20210101T000000
END:STANDARD
END:VTIMEZONE
BEGIN:VEVENT
DTSTART;VALUE=DATE:20220924
DTEND;VALUE=DATE:20220925
DTSTAMP:20260422T220921
CREATED:20220901T165441Z
LAST-MODIFIED:20250304T005224Z
UID:4377-1663977600-1664063999@service.cyberlinc.com
SUMMARY:시카고한인회 창립 60주년 기념 특별 행사
DESCRIPTION:
URL:https://service.cyberlinc.com/event/%ec%8b%9c%ec%b9%b4%ea%b3%a0%ed%95%9c%ec%9d%b8%ed%9a%8c-%ec%b0%bd%eb%a6%bd-60%ec%a3%bc%eb%85%84-%ea%b8%b0%eb%85%90-%ed%8a%b9%eb%b3%84-%ed%96%89%ec%82%ac/
LOCATION:IL
END:VEVENT
END:VCALENDAR