BEGIN:VCALENDAR
VERSION:2.0
PRODID:-//KAAC - ECPv6.15.20//NONSGML v1.0//EN
CALSCALE:GREGORIAN
METHOD:PUBLISH
X-WR-CALNAME:KAAC
X-ORIGINAL-URL:https://service.cyberlinc.com
X-WR-CALDESC:Events for KAAC
REFRESH-INTERVAL;VALUE=DURATION:PT1H
X-Robots-Tag:noindex
X-PUBLISHED-TTL:PT1H
BEGIN:VTIMEZONE
TZID:UTC
BEGIN:STANDARD
TZOFFSETFROM:+0000
TZOFFSETTO:+0000
TZNAME:UTC
DTSTART:20200101T000000
END:STANDARD
END:VTIMEZONE
BEGIN:VEVENT
DTSTART;VALUE=DATE:20210815
DTEND;VALUE=DATE:20210816
DTSTAMP:20260423T045636
CREATED:20210815T004535Z
LAST-MODIFIED:20250304T005634Z
UID:4761-1628985600-1629071999@service.cyberlinc.com
SUMMARY:제 76주년 광복절 기념식
DESCRIPTION:
URL:https://service.cyberlinc.com/event/%ec%a0%9c-76%ec%a3%bc%eb%85%84-%ea%b4%91%eb%b3%b5%ec%a0%88-%ea%b8%b0%eb%85%90%ec%8b%9d/
LOCATION:IL
END:VEVENT
END:VCALENDAR